BEGIN:VCALENDAR
VERSION:2.0
PRODID:-//Great Lakes, Great Read - ECPv6.15.20//NONSGML v1.0//EN
CALSCALE:GREGORIAN
METHOD:PUBLISH
X-WR-CALNAME:Great Lakes, Great Read
X-ORIGINAL-URL:https://greatlakesgreatread.org
X-WR-CALDESC:Events for Great Lakes, Great Read
REFRESH-INTERVAL;VALUE=DURATION:PT1H
X-Robots-Tag:noindex
X-PUBLISHED-TTL:PT1H
BEGIN:VTIMEZONE
TZID:America/Chicago
BEGIN:DAYLIGHT
TZOFFSETFROM:-0600
TZOFFSETTO:-0500
TZNAME:CDT
DTSTART:20230312T080000
END:DAYLIGHT
BEGIN:STANDARD
TZOFFSETFROM:-0500
TZOFFSETTO:-0600
TZNAME:CST
DTSTART:20231105T070000
END:STANDARD
BEGIN:DAYLIGHT
TZOFFSETFROM:-0600
TZOFFSETTO:-0500
TZNAME:CDT
DTSTART:20240310T080000
END:DAYLIGHT
BEGIN:STANDARD
TZOFFSETFROM:-0500
TZOFFSETTO:-0600
TZNAME:CST
DTSTART:20241103T070000
END:STANDARD
BEGIN:DAYLIGHT
TZOFFSETFROM:-0600
TZOFFSETTO:-0500
TZNAME:CDT
DTSTART:20250309T080000
END:DAYLIGHT
BEGIN:STANDARD
TZOFFSETFROM:-0500
TZOFFSETTO:-0600
TZNAME:CST
DTSTART:20251102T070000
END:STANDARD
END:VTIMEZONE
BEGIN:VTIMEZONE
TZID:America/Detroit
BEGIN:DAYLIGHT
TZOFFSETFROM:-0500
TZOFFSETTO:-0400
TZNAME:EDT
DTSTART:20230312T070000
END:DAYLIGHT
BEGIN:STANDARD
TZOFFSETFROM:-0400
TZOFFSETTO:-0500
TZNAME:EST
DTSTART:20231105T060000
END:STANDARD
BEGIN:DAYLIGHT
TZOFFSETFROM:-0500
TZOFFSETTO:-0400
TZNAME:EDT
DTSTART:20240310T070000
END:DAYLIGHT
BEGIN:STANDARD
TZOFFSETFROM:-0400
TZOFFSETTO:-0500
TZNAME:EST
DTSTART:20241103T060000
END:STANDARD
BEGIN:DAYLIGHT
TZOFFSETFROM:-0500
TZOFFSETTO:-0400
TZNAME:EDT
DTSTART:20250309T070000
END:DAYLIGHT
BEGIN:STANDARD
TZOFFSETFROM:-0400
TZOFFSETTO:-0500
TZNAME:EST
DTSTART:20251102T060000
END:STANDARD
END:VTIMEZONE
BEGIN:VEVENT
DTSTART;TZID=America/Chicago:20241112T180000
DTEND;TZID=America/Chicago:20241112T190000
DTSTAMP:20260422T085640
CREATED:20240917T190024Z
LAST-MODIFIED:20240923T142148Z
UID:1480-1731434400-1731438000@greatlakesgreatread.org
SUMMARY:Author Talk - Sally Cole-Misch (DePere\, WI)
DESCRIPTION:Join Sally Cole-Misch for a conversation about the Great Lakes\, writing and her career with the International Joint Commission.
URL:https://greatlakesgreatread.org/event/author-talk-sally-cole-misch-depere-wi/
LOCATION:Brown County Libraries\, DePere Branch\, Kress Family Branch\, 333 N Broadway\, De Pere\, WI\, 54115
ORGANIZER;CN="Anne Moser":MAILTO:akmoser@aqua.wisc.edu
END:VEVENT
BEGIN:VEVENT
DTSTART;TZID=America/Chicago:20241112T120000
DTEND;TZID=America/Chicago:20241112T130000
DTSTAMP:20260422T085640
CREATED:20240917T185717Z
LAST-MODIFIED:20240918T135158Z
UID:1477-1731412800-1731416400@greatlakesgreatread.org
SUMMARY:Author talk - Sally Cole-Misch (Kewaunee\, WI)
DESCRIPTION:Join Sally for a conversation about the Great Lakes\, writing and her career at the International Joint Commission. In partnership with Algoma Public Library.
URL:https://greatlakesgreatread.org/event/author-talk-sally-cole-misch-kewaunee-wi/
LOCATION:Kewaunee Public Library\, 822 Juneau St\, Kewaunee\, WI\, 54216
ORGANIZER;CN="Anne Moser":MAILTO:akmoser@aqua.wisc.edu
END:VEVENT
BEGIN:VEVENT
DTSTART;TZID=America/Chicago:20241111T180000
DTEND;TZID=America/Chicago:20241111T193000
DTSTAMP:20260422T085640
CREATED:20240913T145707Z
LAST-MODIFIED:20240917T164855Z
UID:1438-1731348000-1731353400@greatlakesgreatread.org
SUMMARY:Great Lakes\, Great Read with Sally Cole-Misch & Titus Seilheimer (Manitowoc WI)
DESCRIPTION:Join Sally Cole-Misch and Titus Seilheimer\, fisheries specialist with Wisconsin Sea Grant\, as they explore the intersection of writing and science about the Great Lakes.\nBalkansky Community Room
URL:https://greatlakesgreatread.org/event/the-science-literature-of-the-great-lakes/
LOCATION:Manitowoc Public Library\, 707 Quay St\,\, Manitowoc\, WI\, 54220\, United States
ORGANIZER;CN="Anne Moser":MAILTO:akmoser@aqua.wisc.edu
END:VEVENT
BEGIN:VEVENT
DTSTART;TZID=America/Chicago:20241110T110000
DTEND;TZID=America/Chicago:20241110T130000
DTSTAMP:20260422T085640
CREATED:20240917T185058Z
LAST-MODIFIED:20240917T185149Z
UID:1446-1731236400-1731243600@greatlakesgreatread.org
SUMMARY:Author event - Sally Cole-Misch (Sturgeon Bay\, WI)
DESCRIPTION:Join Sally Cole-Misch for a conversation about the Great Lakes\, writing and her career with the International Joint Commission.
URL:https://greatlakesgreatread.org/event/author-event-sally-cole-misch-sturgeon-bay/
LOCATION:Novel Bay Booksellers\, 44 N 3rd Ave\, Sturgeon Bay\, WI\, 54235
END:VEVENT
BEGIN:VEVENT
DTSTART;TZID=America/Chicago:20241109T100000
DTEND;TZID=America/Chicago:20241109T110000
DTSTAMP:20260422T085640
CREATED:20240917T184501Z
LAST-MODIFIED:20240917T184501Z
UID:1468-1731146400-1731150000@greatlakesgreatread.org
SUMMARY:Sally Cole-Misch author event (Sturgeon Bay\, WI)
DESCRIPTION:Sally Cole-Misch will be visting the Sturgeon Bay Public Library for an author talk.
URL:https://greatlakesgreatread.org/event/sally-cole-misch-author-event-sturgeon-bay-wi/
LOCATION:Sturgeon Bay Library\, 107 S 4th Ave.\, Sturgeon Bay\, WI\, 54235\, United States
ORGANIZER;CN="Anne Moser":MAILTO:akmoser@aqua.wisc.edu
END:VEVENT
BEGIN:VEVENT
DTSTART;TZID=America/Chicago:20241108T180000
DTEND;TZID=America/Chicago:20241108T210000
DTSTAMP:20260422T085640
CREATED:20240827T184220Z
LAST-MODIFIED:20240917T165749Z
UID:1391-1731088800-1731099600@greatlakesgreatread.org
SUMMARY:Great Lakes Science + Literature Cafe (Green Bay\, WI)
DESCRIPTION:Mark your calendars to join us in Green Bay at the Paradise North Distillery where our Great Lakes\, Great Read author Sally Cole-Misch and Julia Noordyk\, Wisconsin Sea Grant water quality specialist talk about the intersection of Great Lakes literature and science. \nConversation begins at 7p. \n  \n 
URL:https://greatlakesgreatread.org/event/science-literature-cafe/
LOCATION:Paradise North Distillery\, 101 Bay Beach Rd\, Suite 5\, Green Bay\, WI\, 54302\, United States
ORGANIZER;CN="Anne Moser":MAILTO:akmoser@aqua.wisc.edu
END:VEVENT
BEGIN:VEVENT
DTSTART;TZID=America/Chicago:20241107T080000
DTEND;TZID=America/Chicago:20241107T170000
DTSTAMP:20260422T085640
CREATED:20240827T183335Z
LAST-MODIFIED:20240917T165713Z
UID:1384-1730966400-1730998800@greatlakesgreatread.org
SUMMARY:Wisconsin Library Association conference - Breakout session with Sally Cole-Misch (Green Bay\, WI)
DESCRIPTION:Mark your calendar – details to follow.
URL:https://greatlakesgreatread.org/event/wisconsin-library-association-breakout-session-sally-cole-misch/
LOCATION:KI Center\, 333 Main St\, Green Bay\, WI\, 54301\, United States
END:VEVENT
BEGIN:VEVENT
DTSTART;TZID=America/Chicago:20241106T120000
DTEND;TZID=America/Chicago:20241106T130000
DTSTAMP:20260422T085640
CREATED:20240827T183733Z
LAST-MODIFIED:20240917T165529Z
UID:1387-1730894400-1730898000@greatlakesgreatread.org
SUMMARY:Wisconsin Library Association conference - Keynote by Joanne Robertson (Green Bay\, WI)
DESCRIPTION:Mark your calendars to join Joanne at the WLA conference in Green Bay where she will be the YSS luncheon keynote speaker. Details to follow.
URL:https://greatlakesgreatread.org/event/wisconsin-library-association-conference-keynote-by-joanne-robertson/
LOCATION:KI Center\, 333 Main St\, Green Bay\, WI\, 54301\, United States
END:VEVENT
BEGIN:VEVENT
DTSTART;TZID=America/Chicago:20241009T180000
DTEND;TZID=America/Chicago:20241009T190000
DTSTAMP:20260422T085640
CREATED:20240709T174055Z
LAST-MODIFIED:20240812T143325Z
UID:1095-1728496800-1728500400@greatlakesgreatread.org
SUMMARY:(VIRTUAL) The Water Walker\, Nibi and You: A conversation with Joanne Robertson
DESCRIPTION:Grandmother Josephine-ba Mandamin – The Water Walk – left millions of footsteps for us to follow in. Relationship to water\, respect for water and our relative’s rights to water were all lovingly demonstrated in her work for Nibi. We’ll get to know her work for nibi. We’ll get to know her a little better and be inspired to continue her work for the Great Lakes and Turtle Island. \nRegister in advance for this webinar:\nhttps://uwmadison.zoom.us/webinar/register/WN_EUn2ScVsS4mmDVPwD0OLlA  \nIf you have any questions for our author\, please send an email to askwater@aqua.wisc.edu.
URL:https://greatlakesgreatread.org/event/a-conversation-with-joanne-robertson/
LOCATION:WI
CATEGORIES:Webinar
END:VEVENT
BEGIN:VEVENT
DTSTART;TZID=America/Chicago:20241005T120000
DTEND;TZID=America/Chicago:20241005T140000
DTSTAMP:20260422T085640
CREATED:20240716T175828Z
LAST-MODIFIED:20240917T165438Z
UID:1123-1728129600-1728136800@greatlakesgreatread.org
SUMMARY:Great Lakes Stories Recording Session (Ashland\, WI)
DESCRIPTION:Select stories from the workshop will be recording by Bonnie Willison\, digital storyteller with Wisconsin Sea Grant.
URL:https://greatlakesgreatread.org/event/how-to-share-a-great-lakes-story-workshop-opportunity-to-record-story-with-bonnie/
LOCATION:Vaughn Public Library\, 502 Main St. West\, Ashland\, 54806\, United States
CATEGORIES:Workshop
END:VEVENT
BEGIN:VEVENT
DTSTART;TZID=America/Chicago:20241005T090000
DTEND;TZID=America/Chicago:20241005T113000
DTSTAMP:20260422T085640
CREATED:20240716T175651Z
LAST-MODIFIED:20240917T165413Z
UID:1120-1728118800-1728127800@greatlakesgreatread.org
SUMMARY:Learn the Art and Craft of Telling Your Story  - Drop-in Story Workshop (Ashland\, WI)
DESCRIPTION:In part two of this two-part workshop\, participants may return to the library to workshop their story with Jen Rubin\, Executive Producer of Love Wisconsin\, a digital storytelling project of Wisconsin Humanities.. She will work one-on-one with storytellers to refine and ready their stories. Signup for the sessions will be available after Friday’s skills session.
URL:https://greatlakesgreatread.org/event/how-to-share-a-great-lakes-story-workshop-drop-in-workshopping-of-stories/
LOCATION:Vaughn Public Library\, 502 Main St. West\, Ashland\, 54806\, United States
CATEGORIES:Workshop
END:VEVENT
BEGIN:VEVENT
DTSTART;TZID=America/Chicago:20241004T170000
DTEND;TZID=America/Chicago:20241004T190000
DTSTAMP:20260422T085640
CREATED:20240716T174921Z
LAST-MODIFIED:20240917T165343Z
UID:1115-1728061200-1728068400@greatlakesgreatread.org
SUMMARY:Learn the Art and Craft of Telling Your Story - Skills workshop (Ashland\, WI)
DESCRIPTION:In part one of this two-part workshop\, participants will learn how to turn their everyday experiences and memories of the Great Lakes into stories. Attendees can bring stories they’ve already written or just come with ideas and experiences to draw from. We will discuss the five main elements of a story and how to discover them. By learning dynamic storytelling elements\, you will gain the tools to pull short stories out of everyday life. Participants will learn how to turn an experience into a story that illuminates a connection\, an emotion or a memory of the Great Lakes. These stories may even shed some light on what it means to be a human being. This will be an interactive class with a mixture of mini-lecture\, 1:1 dialogue\, and small-group work. The class is led by Jen Rubin\, Executive Producer of Love Wisconsin\, a digital storytelling project of Wisconsin Humanities. \nRegister today!
URL:https://greatlakesgreatread.org/event/how-to-share-a-great-lakes-story-workshop/
LOCATION:Vaughn Public Library\, 502 Main St. West\, Ashland\, 54806\, United States
CATEGORIES:Workshop
END:VEVENT
BEGIN:VEVENT
DTSTART;TZID=America/Chicago:20241002T180000
DTEND;TZID=America/Chicago:20241002T190000
DTSTAMP:20260422T085640
CREATED:20240709T173940Z
LAST-MODIFIED:20240812T141931Z
UID:1093-1727892000-1727895600@greatlakesgreatread.org
SUMMARY:(VIRTUAL) Finding The Best Part of Us through Nature and Our Precious Great Lakes: A Conversation with Sally Cole-Misch
DESCRIPTION:After a career in Great Lakes policy and environmental communications\, Sally translated her life’s work into fiction through her multi-award-winning novel\, The Best Part of Us. Join us for an interactive conversation to learn about the career and writing experiences that led her to write our 2024-2025 Great Lakes Great Read adult selection\, which immerses readers in a breathtaking natural world\, a fresh perspective on loyalty\, and an exquisite ode to the essential roles that family\, nature\, and place hold in all of our lives.\nRegister in advance for this webinar:\nhttps://uwmadison.zoom.us/webinar/register/WN_NsAFptDgTn6uZq91nvgFxA \nIf you have a question for our author\, please send an email to askwater@aqua.wisc.edu.
URL:https://greatlakesgreatread.org/event/finding-the-best-part-of-us-through-nature-and-our-precious-great-lakes-a-conversation-with-sally-cole-misch/
LOCATION:WI
CATEGORIES:Webinar
END:VEVENT
BEGIN:VEVENT
DTSTART;TZID=America/Chicago:20240925T180000
DTEND;TZID=America/Chicago:20240925T190000
DTSTAMP:20260422T085640
CREATED:20240709T140731Z
LAST-MODIFIED:20240812T142018Z
UID:1091-1727287200-1727290800@greatlakesgreatread.org
SUMMARY:(VIRTUAL) Meet our authors: A conversation with Sally Cole-Misch and Joanne Robertson
DESCRIPTION:Both of our Great Lakes\, Great Read authors will join us for a conversation about what the Great Lakes and their writings mean to them. This webinar is free and open to anyone. \nPlease register in advance to receive a link: https://uwmadison.zoom.us/webinar/register/WN_Y_q9wrKkSVyejmXgYlgOmA \nIf you have any questions for our authors\, please send an email to askwater@aqua.wisc.edu.
URL:https://greatlakesgreatread.org/event/meet-our-authors-a-conversation-with-sally-cole-misch-and-joanne-robertson/
LOCATION:WI
CATEGORIES:Webinar
END:VEVENT
BEGIN:VEVENT
DTSTART;TZID=America/Chicago:20240918T150000
DTEND;TZID=America/Chicago:20240918T160000
DTSTAMP:20260422T085640
CREATED:20240910T143358Z
LAST-MODIFIED:20240917T165038Z
UID:1408-1726671600-1726675200@greatlakesgreatread.org
SUMMARY:Our Great Lakes in the 21st Century: Challenges and Opportunities (Jefferson\, WI)
DESCRIPTION:Just 3% of the water on earth is freshwater and the Great Lakes have 20% of that supply. Two million people worldwide today face some sort of water-supply shortages and 5 million die from water-borne diseases. What are the specific stressors that face our Great Lakes today and what are we doing about it? Anne will introduce current the science and the issues facing our precious resource. \nA presentation for adults by Anne Moser\, Sr. Special Librarian and Education Coordinator.
URL:https://greatlakesgreatread.org/event/our-great-lakes-in-the-21st-century-challenges-and-opportunities/
LOCATION:Jefferson Public Library\, Jefferson WI\, 321 S Main St\,\, Jefferson\, WI\, 53549
ORGANIZER;CN="Anne Moser":MAILTO:akmoser@aqua.wisc.edu
END:VEVENT
BEGIN:VEVENT
DTSTART;TZID=America/Chicago:20240916T160000
DTEND;TZID=America/Chicago:20240916T180000
DTSTAMP:20260422T085640
CREATED:20240910T145444Z
LAST-MODIFIED:20240917T165149Z
UID:1415-1726502400-1726509600@greatlakesgreatread.org
SUMMARY:Connect\, Understand & Cherish: Dinner and Dialog with Author\, Sally Cole-Misch (MI)
DESCRIPTION:K-12 teachers & community partners are invited to attend Connect\, Understand\, & Cherish\, the LSSI All Team Kick-Off and Dinner & Dialogue featuring author Sally Cole-Misch\, 2024-25 author of the Great Lakes\, Great Read adult selection. Reconnect with team members\, meet new educators and community partners\, and learn about upcoming professional learning and mini-grant opportunities. \nSee our flyer for full details.
URL:https://greatlakesgreatread.org/event/connect-understand-cherish-dinner-and-dialog-with-author-sally-cole-misch/
LOCATION:CCISD\, 809 Hecla St.\, Conference Room B\, Hancock\, MI\, 49930\, United States
END:VEVENT
BEGIN:VEVENT
DTSTART;TZID=America/Chicago:20240915T190000
DTEND;TZID=America/Chicago:20240915T200000
DTSTAMP:20260422T085640
CREATED:20240910T160000Z
LAST-MODIFIED:20240917T165112Z
UID:1422-1726426800-1726430400@greatlakesgreatread.org
SUMMARY:Conversation with Sally Cole-Misch (Copper Harbor\, MI)
DESCRIPTION:
URL:https://greatlakesgreatread.org/event/conversation-with-sally-cole-misch/
LOCATION:Grandpa’s Barn Book Shop\, Copper Harbor\, MI
END:VEVENT
BEGIN:VEVENT
DTSTART;TZID=America/Detroit:20240912T110000
DTEND;TZID=America/Detroit:20240912T140000
DTSTAMP:20260422T085640
CREATED:20240910T144542Z
LAST-MODIFIED:20240917T164946Z
UID:1411-1726138800-1726149600@greatlakesgreatread.org
SUMMARY:The Library of the Great Lakes presents Sally Cole-Misch (L'Anse\, MI)
DESCRIPTION:Join us for conversation and lunch with award-winning author Sally Cole-Misch as she discusses her novel\, The Best Part of Us. KBIC Elder Kathleen Smith will conduct a Water Ceremony prior to the event at 10 a.m. at the L’Anse waterfront. \nSponsored by: Michigan Technological University Institute for Policy\, Ethics and Culture\, Keweenaw Bay Indian Community Natural Resources Department\, Keweenaw Bay Ojibwa Community College\, Library of the Great Lakes.
URL:https://greatlakesgreatread.org/event/the-library-of-the-great-lakes-presents-sally-cole-misch/
LOCATION:Keweenaw Bay Ojibwa Community College\, 770 N. Main St.\, L'Anse\, MI\, 49946\, United States
END:VEVENT
END:VCALENDAR